BEGIN:VCALENDAR
VERSION:2.0
PRODID:-//Ciclo de Conciertos de Barcia de Mera - ECPv5.14.1//NONSGML v1.0//EN
CALSCALE:GREGORIAN
METHOD:PUBLISH
X-WR-CALNAME:Ciclo de Conciertos de Barcia de Mera
X-ORIGINAL-URL:http://cicloconciertosbarciademera.net
X-WR-CALDESC:Events for Ciclo de Conciertos de Barcia de Mera
REFRESH-INTERVAL;VALUE=DURATION:PT1H
X-Robots-Tag:noindex
X-PUBLISHED-TTL:PT1H
BEGIN:VTIMEZONE
TZID:UTC
BEGIN:STANDARD
TZOFFSETFROM:+0000
TZOFFSETTO:+0000
TZNAME:UTC
DTSTART:20220101T000000
END:STANDARD
END:VTIMEZONE
BEGIN:VEVENT
DTSTART;TZID=UTC:20220815T200000
DTEND;TZID=UTC:20220815T213000
DTSTAMP:20260422T225111
CREATED:20220427T112221Z
LAST-MODIFIED:20220809T143815Z
UID:15962-1660593600-1660599000@cicloconciertosbarciademera.net
SUMMARY:Dúo Laúd e Voz
DESCRIPTION:Texto y programa en elaboración. \n  \n 
URL:http://cicloconciertosbarciademera.net/index.php/event/duo-laud-e-voz/
LOCATION:Igrexa de Barcia de Mera\, Alén s/n\, Barcia de Mera\, Pontevedra\, 36878\, España
CATEGORIES:Concierto
ATTACH;FMTTYPE=image/jpeg:http://cicloconciertosbarciademera.net/wp-content/uploads/2022/04/FB_IMG_1660055767045.jpg
END:VEVENT
BEGIN:VEVENT
DTSTART;TZID=UTC:20220827T200000
DTEND;TZID=UTC:20220827T213000
DTSTAMP:20260422T225111
CREATED:20220427T112926Z
LAST-MODIFIED:20220429T094414Z
UID:15965-1661630400-1661635800@cicloconciertosbarciademera.net
SUMMARY:Coro de Cámara Vox Stellae e Ensemble
DESCRIPTION:Villancicos de galegos\n  \nLos compositores de la época debían crear obras que satisficieran al numeroso público que celebraba las fiestas navideñas y del Corpus Christi\, asociadas a un rito menos severo que favorecía el espectáculo y la teatralidad sin perder el carácter evangelizador. Las catedrales empezaron a imprimir las hojas de villancicos\, que contenían las letras de las composiciones que iban a ser escuchadas con el objetivo de facilitar su seguimiento por parte del público. Estas hojas son una fuente muy importante en el estudio del lenguaje. Desafortunadamente\, solo nos llegó una pequeña parte de las partituras asociadas con las letras que estaban escritas en las hojas. \nLos villancicos gallegos aparecen por toda la Península Ibérica y también en América\, donde músicos enviados desde la metrópoli mezclan estilos compositivos europeos con la tradición musical autóctona. Por tanto\, la interpretación de estas piezas resulta de especial interés desde un punto de vista musicológico y lingüístico\, pero sobre todo desde un punto de vista estrictamente musical. Estos villancicos contienen ya las muiñeiras y alboradas que han llegado a la actualidad a través del folclore de transmisión oral. \nPara estos conciertos Vox Stellae contará con una formación vocal e instrumental similar a la que se podría haber utilizado en el siglo XVII en cualquier catedral ibérica. \n  \n  \n  \n\n\n\n\n\n\n\n\n\n\n\n\n\n\n\n\n	\n	Vox StellaeGrupo\nCoro y ensemble de cámara especializado en el repertorio musical gallego y renacentisa y recuperador de música religosa gallega.
URL:http://cicloconciertosbarciademera.net/index.php/event/coro-de-camara-vox-stellae-e-ensemble/
LOCATION:Igrexa de Barcia de Mera\, Alén s/n\, Barcia de Mera\, Pontevedra\, 36878\, España
CATEGORIES:Concierto
ATTACH;FMTTYPE=image/jpeg:http://cicloconciertosbarciademera.net/wp-content/uploads/2017/11/cartel_principal_xiv.jpeg
END:VEVENT
END:VCALENDAR